BEGIN:VCALENDAR
VERSION:2.0
PRODID:-//UNIFR/WEBMASTER//NONSGML v1.0//EN
CALSCALE:GREGORIAN
BEGIN:VEVENT
DTSTART;VALUE=DATE:20221103T080000
DTEND;VALUE=DATE:20221103T174500
UID:9800@agenda.unifr.ch
DESCRIPTION:Objectif\nLa révision du droit de la société anonyme adoptée par le Parlement en juin 2020 est un événement majeur pour le droit suisse des sociétés. Les professeur·e·s de droit des sociétés des quatre universités romandes ainsi que la relève académique unissent leurs efforts et proposent un cycle de conférences afin de présenter les modifications législatives avant leur entrée en vigueur.\n\nLa journée couvrira les principaux aspects de la révision en couvrant les thèmes suivants :\n- Assemblée générale\n- Gouvernement d’entreprise, rémunération et quota\n- Droits d’information des actionnaires\n- Actions judiciaires et arbitrabilité\n- Capital-actions et structure du capital\n- Augmentation, réduction de capital et marge de fluctuation\n- Assainissement\n- Actions au porteur et transparence de l’actionnariat\n\nPublic\nPraticien·ne du droit des affaires, en particulier avocat·e, notaire, magistrat·e, conseiller/ère juridique, juriste d’entreprise, stagiaire, universitaire.\n
SUMMARY:Journée sur la révision du droit de la société anonyme
CATEGORIES:Kolloquium / Kongress / Forum\, Tagung / Konferenz
LOCATION:MIS 01\, Aula Magna\, Avenue de l'Europe 20\, 1700 Fribourg
URL;VALUE=URI:https://agenda.unifr.ch/e/de/9800
END:VEVENT
END:VCALENDAR