BEGIN:VCALENDAR
VERSION:2.0
PRODID:-//UNIFR/WEBMASTER//NONSGML v1.0//EN
CALSCALE:GREGORIAN
BEGIN:VEVENT
DTSTART;VALUE=DATE:20211115T000000
DTEND;VALUE=DATE:20211115T000000
UID:9625@agenda.unifr.ch
DESCRIPTION:<strong>Wolfgang Amadeus Mozart (1756-1791)</strong>: 2ème mouvement Andante de la Symphonie no. 29 en la majeur  KV. 201\n\n<strong>Luigi Boccherini (1743-1805)</strong>: 1er mouvement Allegro con moto de la Symphonie no. 5 en do majeur\n\nGaudeamus Igitur\n\nDirection: Alexandru Ianos
SUMMARY:Accompagnement musical du Dies Academicus 2021
CATEGORIES:Concert / Spectacle
LOCATION:MIS 01\, Aula Magna\, Avenue de l'Europe 20\, 1700 Fribourg
URL;VALUE=URI:https://agenda.unifr.ch/e/fr/9625
END:VEVENT
END:VCALENDAR