BEGIN:VCALENDAR
VERSION:2.0
PRODID:-//UNIFR/WEBMASTER//NONSGML v1.0//EN
CALSCALE:GREGORIAN
BEGIN:VEVENT
DTSTART;VALUE=DATE:20210512T122000
DTEND;VALUE=DATE:20210512T125000
UID:8138@agenda.unifr.ch
DESCRIPTION:Den geistigen Frieden finden\nDer Hektik und dem Lärm für dreissig Minuten entfliehen\nZur Ruhe kommen\nDas Tempo entschleunigen\nDie Zersträuung der Gedanken zähmen,\nUm dann wieder in den Alltag einzusteigen, mit neuer Kraft und Heiterkeit\nDas üben wir, wöchentlich, mit verschiedenen Techniken.\nMeditation ist eine Praxis!
SUMMARY:Meditation
CATEGORIES:Seminar
LOCATION:PER 22\, Raum der Stille\, Bd de Pérolles 90\, 1700 Fribourg
URL;VALUE=URI:https://agenda.unifr.ch/e/de/8138
END:VEVENT
END:VCALENDAR