BEGIN:VCALENDAR
VERSION:2.0
PRODID:-//UNIFR/WEBMASTER//NONSGML v1.0//EN
CALSCALE:GREGORIAN
BEGIN:VEVENT
DTSTART;VALUE=DATE:20190925T180000
DTEND;VALUE=DATE:20190925T193000
UID:6387@agenda.unifr.ch
DESCRIPTION:La Chaire d'histoire de l'Antiquité est heureuse de se joindre à l’Association des Amis de la Bibliothèque d’Andritsena pour vous inviter au vernissage de l’exposition de photographies de Stavros Andriotis "Impressions et émotions" sous l’égide de l’Ambassade de Grèce en Suisse ainsi qu'à la conférence du Prof. Jean-Yves Marc (Université de Strasbourg): "Photographie et archéologie"
SUMMARY:Vernissage de l’exposition de photographies archéologiques de Stavros Andriotis "Impressions et émotions" et conférence "Photographie et archéologie"
CATEGORIES:Vortrag\, Ausstellung
LOCATION:MIS 03\, Auditoire C\, Avenue de l'Europe 20\, 1700 Fribourg
URL;VALUE=URI:https://agenda.unifr.ch/e/de/6387
END:VEVENT
END:VCALENDAR