BEGIN:VCALENDAR
VERSION:2.0
PRODID:-//UNIFR/WEBMASTER//NONSGML v1.0//EN
CALSCALE:GREGORIAN
BEGIN:VEVENT
DTSTART;VALUE=DATE:20171115T080000
DTEND;VALUE=DATE:20171115T080000
UID:638@agenda.unifr.ch
DESCRIPTION:Présidence d’honneur / Ehrenpräsident: Peter Maurer, Président CICR\nHôte d'honneur: District de la Veveyse\n\n8.00, Collège St-Michel\nCélébration de l'eucharistie / Eucharistiefeier – Présidence: Mgr Urban Federer, Père-Abbé d'Einsiedeln\n\n10.00, Miséricorde, Aula magna\nSéance académique / Akademischer Festakt\n\nBienvenue / Begrüssung – Astrid Epiney, rectrice\n\nAllocutions / Ansprachen – Jean-Pierre Siggen, conseiller d'Etat, directeur de l'instruction publique, de la culture et du sport du Canton de Fribourg; Peter Maurer, président CICR; Jean-Thomas Vacher, co-président du comité de l'Association générale des étudiant·e·s de l'Université de Fribourg\n\nConférence / Vortrag – Prof. Jean-Baptiste Zufferey, Faculté de droit: «Qui dit légalité dit égalité / Gesetzmässigkeit sei doch Mässigkeit»\n\nHommages et distinctions académiques / Akademische Ehrungen und Preise\n\nMessage de François Genoud, préfet du district de la Veveyse\n\n
SUMMARY:Dies academicus 2017
CATEGORIES:Journée
LOCATION:MIS 01\, Aula magna\, Avenue de l'Europe 20\, 1700 Fribourg
URL;VALUE=URI:https://agenda.unifr.ch/e/fr/638
END:VEVENT
END:VCALENDAR