BEGIN:VCALENDAR
VERSION:2.0
PRODID:-//UNIFR/WEBMASTER//NONSGML v1.0//EN
CALSCALE:GREGORIAN
BEGIN:VEVENT
DTSTART;VALUE=DATE:20190528T180000
DTEND;VALUE=DATE:20190528T180000
UID:5808@agenda.unifr.ch
DESCRIPTION:Cet événement donne la parole aux personnes internées administrativement dans les établissements de Bellechasse (FR) entre 1919 et 1979. Des lettres ont été retrouvées dans leurs dossiers conservés aux archives, des récits de vie ont été publiés. Exposé d'Anne-Françoise Praz, prof.en histoire contemporaine, et lectures par Anne Jenny et Kaspar Locher.
SUMMARY:Bellechasse. Paroles enfermées. L'internement administratif à Fribourg
CATEGORIES:Conférence
LOCATION:Nouveau Monde\, Esplanage de l'Ancienne gare 3\, 1700 Fribourg
URL;VALUE=URI:https://agenda.unifr.ch/e/fr/5808
END:VEVENT
END:VCALENDAR