BEGIN:VCALENDAR
VERSION:2.0
PRODID:-//UNIFR/WEBMASTER//NONSGML v1.0//EN
CALSCALE:GREGORIAN
BEGIN:VEVENT
DTSTART;VALUE=DATE:20190528T180000
DTEND;VALUE=DATE:20190528T180000
UID:5808@agenda.unifr.ch
DESCRIPTION:Administrativ vesorgte Personen in den Anstalten von Bellechasse haben schriftliche Spuren hinterlassen: Briefen in den Archivdossiers und Lebensgeschichten. Vortrag von Prof. Anne-Françoise Praz (histoire contemporaine/ZeitGeschichte) und Lesung von Anne Jenny und Kaspar Locher.
SUMMARY:Bellechasse. Unterdrückte Stimmen. Administrative Versorgung in Freiburg
CATEGORIES:Vortrag
LOCATION:Nouveau Monde\, Esplanage de l'Ancienne gare 3\, 1700 Fribourg
URL;VALUE=URI:https://agenda.unifr.ch/e/de/5808
END:VEVENT
END:VCALENDAR