BEGIN:VCALENDAR
VERSION:2.0
PRODID:-//UNIFR/WEBMASTER//NONSGML v1.0//EN
CALSCALE:GREGORIAN
BEGIN:VEVENT
DTSTART;VALUE=DATE:20180530T121500
DTEND;VALUE=DATE:20180530T134500
UID:3157@agenda.unifr.ch
DESCRIPTION:Freiburger Forum für Zeitgeschichte\n\n
SUMMARY:Wie wäre eine Geschichte der Kindertagesstätten in der Schweiz zu schreiben?
CATEGORIES:Colloque / Congrès / Forum
LOCATION:MIS 02\, MIS 2116\, Avenue de l'Europe 20\, 1700 Fribourg
URL;VALUE=URI:https://agenda.unifr.ch/e/fr/3157
END:VEVENT
END:VCALENDAR