BEGIN:VCALENDAR
VERSION:2.0
PRODID:-//UNIFR/WEBMASTER//NONSGML v1.0//EN
CALSCALE:GREGORIAN
BEGIN:VEVENT
DTSTART;VALUE=DATE:20180516T121500
DTEND;VALUE=DATE:20180516T134500
UID:3156@agenda.unifr.ch
DESCRIPTION:Forum fribourgeois pour l'histoire contemporaine\n
SUMMARY:De la migration à la mobilité étudiante : les politiques d’accueil d’étudiants étrangers en Suisse (1960-1980)  
CATEGORIES:Colloque / Congrès / Forum
LOCATION:MIS 02\, MIS 2116\, Avenue de l'Europe 20\, 1700 Fribourg
URL;VALUE=URI:https://agenda.unifr.ch/e/fr/3156
END:VEVENT
END:VCALENDAR