BEGIN:VCALENDAR
VERSION:2.0
PRODID:-//UNIFR/WEBMASTER//NONSGML v1.0//EN
CALSCALE:GREGORIAN
BEGIN:VEVENT
DTSTART;VALUE=DATE:20180502T121500
DTEND;VALUE=DATE:20180502T134500
UID:3154@agenda.unifr.ch
DESCRIPTION:Forum fribourgeois pour l'histoire contemporainePauline Milani\n
SUMMARY:Une femme artiste est-elle toujours une femme?  Les sculptrices du Second Empire face aux contraintes de genre 
CATEGORIES:Colloque / Congrès / Forum
LOCATION:MIS 02\, MIS 2116\, Avenue de l'Europe 20\, 1700 Fribourg
URL;VALUE=URI:https://agenda.unifr.ch/e/fr/3154
END:VEVENT
END:VCALENDAR