BEGIN:VCALENDAR
VERSION:2.0
PRODID:-//UNIFR/WEBMASTER//NONSGML v1.0//EN
CALSCALE:GREGORIAN
BEGIN:VEVENT
DTSTART;VALUE=DATE:20180314T121500
DTEND;VALUE=DATE:20180314T134500
UID:3153@agenda.unifr.ch
DESCRIPTION:\nFreiburger Forum für Zeitgeschichte
SUMMARY:Das Wissen der Migration. Fallbeispiel Schweiz 1950-2000
CATEGORIES:Colloque / Congrès / Forum
LOCATION:MIS 02\, MIS 2116\, Avenue de l'Europe 20\, 1700 Fribourg
URL;VALUE=URI:https://agenda.unifr.ch/e/fr/3153
END:VEVENT
END:VCALENDAR