BEGIN:VCALENDAR
VERSION:2.0
PRODID:-//UNIFR/WEBMASTER//NONSGML v1.0//EN
CALSCALE:GREGORIAN
BEGIN:VEVENT
DTSTART;VALUE=DATE:20171107T140000
DTEND;VALUE=DATE:20171107T193000
UID:2792@agenda.unifr.ch
DESCRIPTION:Am 7. November 1917 referierte Max Weber im Kunstsaal einer Münchner Buchhandlung über «Wissenschaft als Beruf». Auch heute stellt sich für junge Akademiker und Akademikerinnen die Frage, ob es sinnvoll ist, eine Hochschulkarriere anzustreben. Selbst für diejenigen, die in Forschung und Lehre an der Universität tätig sind, kommt die Frage nach ihrer Rolle und Verantwortung im Rahmen der Wissenschaft nicht zur Ruhe. Immer neu stehen Universitäten, Forschende, Lehrende und Studierende vor der Aufgabe, sich gegen Politisierung und Ideologisierung zu wehren. Die Debatte setzt sich fort, inwiefern die Wissenschaft zwar normative Wahrheiten anzielt, die Frage nach dem Sinn des Lebens aber unbeantwortet lässt.\nWebers Opus neu zu lesen, öffnet zugleich den Blick auf neue Herausforderungen. So scheint die moderne Universität neuerdings vor allem von wirtschaftlichen Interessen und Nutzenrhetorik bedroht. Spätestens seit «postfaktisch» 2016 von der Gesellschaft für deutsche Sprache zum Wort des Jahres gewählt wurde, stellt sich die Frage, ob wissenschaftliche Wahrheiten ihre Legitimität verlieren und der Willkür der Emotionen und Optionen weichen müssen.\nAn der Universität Freiburg Schweiz findet am 100. Jahrestag des Vortrags eine Tagung zu Max Webers Impuls statt. Neben der historischen Kontextualisierung von Webers Beitrag\ngeht es vor allem um die Wahrnehmung, wie in der heutigen wissenschaftlichen Welt Fragen und Antworten angemessen zu formulieren sind. Experten zum Werk von Max Weber geben Anregungen zur lebendigen Weiterführung einer stets aktuellen Debatte.
SUMMARY:100 Jahre Max Weber: Wissenschaft als Beruf. Aktuelle Herausforderungen
CATEGORIES:Kolloquium / Kongress / Forum
LOCATION:MIS 03\, 3115 / 3119\, Avenue de l'Europe 20\, 1700 Fribourg
URL;VALUE=URI:https://agenda.unifr.ch/e/de/2792
END:VEVENT
END:VCALENDAR