BEGIN:VCALENDAR
VERSION:2.0
PRODID:-//UNIFR/WEBMASTER//NONSGML v1.0//EN
CALSCALE:GREGORIAN
BEGIN:VEVENT
DTSTART;VALUE=DATE:20260519T170000
DTEND;VALUE=DATE:20260519T170000
UID:19719@agenda.unifr.ch
DESCRIPTION:
SUMMARY:Apéritif de fin d’année académique de l’IAB
CATEGORIES:Autre
LOCATION:RPA\, Rue Pierre-Aeby 16\, 1700 Fribourg
URL;VALUE=URI:https://agenda.unifr.ch/e/fr/19719
END:VEVENT
END:VCALENDAR