BEGIN:VCALENDAR
VERSION:2.0
PRODID:-//UNIFR/WEBMASTER//NONSGML v1.0//EN
CALSCALE:GREGORIAN
BEGIN:VEVENT
DTSTART;VALUE=DATE:20260506T130000
DTEND;VALUE=DATE:20260506T130000
UID:19712@agenda.unifr.ch
DESCRIPTION:We study the flow and clogging of soft particles: micron-sized oil droplets, centimeter-sized hydrogel particles, and simulated soft particles, all draining out of a funnel. We find that softness is a key factor controlling clogging: with stiffer particles or a weaker driving force, clogging is easier. Softer particles form less stable arches and thus reduce the probability of clogging. We also study situations where single small droplets split into two or two droplets merge into one. The results have implications for oil droplets flowing through porous materials such as soil, where droplets can clog, break, or merge.
SUMMARY:Flowing, squeezing, clogging, and jamming of oil droplets
CATEGORIES:Séminaire
LOCATION:PER 08\, 2.73\, Chemin du Musée 3\, 1700 Fribourg
URL;VALUE=URI:https://agenda.unifr.ch/e/fr/19712
END:VEVENT
END:VCALENDAR