BEGIN:VCALENDAR
VERSION:2.0
PRODID:-//UNIFR/WEBMASTER//NONSGML v1.0//EN
CALSCALE:GREGORIAN
BEGIN:VEVENT
DTSTART;VALUE=DATE:20260430T161500
DTEND;VALUE=DATE:20260430T161500
UID:19711@agenda.unifr.ch
DESCRIPTION:Public thesis presentation of Axelle Raisin for the award of the PhD in Biology.\n\nTitle of the thesis: Plant sanctioning mechanisms toward non-fixing endosymbiont
SUMMARY:Plant sanctioning mechanisms toward non-fixing endosymbiont
CATEGORIES:Soutenance de mémoire/thèse
LOCATION:PER 04\, 0.110\, Rue Albert-Gockel 3\, 1700 Fribourg
URL;VALUE=URI:https://agenda.unifr.ch/e/fr/19711
END:VEVENT
END:VCALENDAR