BEGIN:VCALENDAR
VERSION:2.0
PRODID:-//UNIFR/WEBMASTER//NONSGML v1.0//EN
CALSCALE:GREGORIAN
BEGIN:VEVENT
DTSTART;VALUE=DATE:20260520T090000
DTEND;VALUE=DATE:20260520T100000
UID:19710@agenda.unifr.ch
DESCRIPTION:Verteidigung: Marisa Fleisch
SUMMARY:Masterverteidigung: «Hexen wollen wir doch sein!» Übernahme des Hexenbegriffs innerhalb der Neuen Frauenbewegung der Schweiz (1970-1989)
CATEGORIES:Autre
LOCATION:MIS 04\, 4112\, Avenue de l'Europe 20\, 1700 Fribourg
URL;VALUE=URI:https://agenda.unifr.ch/e/fr/19710
END:VEVENT
END:VCALENDAR