BEGIN:VCALENDAR
VERSION:2.0
PRODID:-//UNIFR/WEBMASTER//NONSGML v1.0//EN
CALSCALE:GREGORIAN
BEGIN:VEVENT
DTSTART;VALUE=DATE:20260428T121500
DTEND;VALUE=DATE:20260428T134500
UID:19707@agenda.unifr.ch
DESCRIPTION:Vous êtes étudiant/e ou jeune diplômé/e d‘une haute école ? Chaque année, l‘administration fédérale offre plus de 2000 postes et près de 650 stages de haute école en Suisse et à l‘étranger, toutes filières confondues. Les offres s‘adressent aux jeunes talents qui veulent démarrer leur carrière sans attendre. Le 28 avril, une représentante vous fera découvrir l‘univers professionnel de l‘administration fédérale et répondra à vos questions. Comprendre le processus de recrutement, préparer son dossier de postulation, comprendre les attentes de l‘employeur...
SUMMARY:VOS DÉBUTS À L’ADMINISTRATION FÉDÉRALE : Ladina Ziani, marketing du personnel de l’administration fédérale
CATEGORIES:Conférence\, Autre
LOCATION:Université de Neuchâtel, Salle C.46\, Avenue du 1er-Mars 26\, 2000 Neuchâtel
URL;VALUE=URI:https://agenda.unifr.ch/e/fr/19707
END:VEVENT
END:VCALENDAR