BEGIN:VCALENDAR
VERSION:2.0
PRODID:-//UNIFR/WEBMASTER//NONSGML v1.0//EN
CALSCALE:GREGORIAN
BEGIN:VEVENT
DTSTART;VALUE=DATE:20260427T150000
DTEND;VALUE=DATE:20260427T150000
UID:19706@agenda.unifr.ch
DESCRIPTION:Public thesis presentation of Shaista Ahmed for the award of the PhD in Medical Sciences.\n\nTitle of the thesis: Effect of Bone Marrow Cell Composition and Secretome on Macrophage-Mediated Paracrine Cardiac Repair
SUMMARY:Effect of Bone Marrow Cell Composition and Secretome on Macrophage-Mediated Paracrine Cardiac Repair
CATEGORIES:Soutenance de mémoire/thèse
LOCATION:PER 09\, 0.108\, Chemin du Musée 5\, 1700 Fribourg
URL;VALUE=URI:https://agenda.unifr.ch/e/fr/19706
END:VEVENT
END:VCALENDAR