BEGIN:VCALENDAR
VERSION:2.0
PRODID:-//UNIFR/WEBMASTER//NONSGML v1.0//EN
CALSCALE:GREGORIAN
BEGIN:VEVENT
DTSTART;VALUE=DATE:20260430T163000
DTEND;VALUE=DATE:20260430T173000
UID:19704@agenda.unifr.ch
DESCRIPTION:
SUMMARY:Development and Functional Characterization of β-Carotene-loaded Nanocarriers for Oral Delivery
CATEGORIES:Soutenance de mémoire/thèse
LOCATION:PER 18\, Auditorium\, Chemin des Verdiers 4\, 1700 Fribourg
URL;VALUE=URI:https://agenda.unifr.ch/e/fr/19704
END:VEVENT
END:VCALENDAR