BEGIN:VCALENDAR
VERSION:2.0
PRODID:-//UNIFR/WEBMASTER//NONSGML v1.0//EN
CALSCALE:GREGORIAN
BEGIN:VEVENT
DTSTART;VALUE=DATE:20260520T183000
DTEND;VALUE=DATE:20260520T183000
UID:19703@agenda.unifr.ch
DESCRIPTION:Organisée en collaboration avec les Amis de l'Art antique et les Amis de la BCU
SUMMARY:«Salve Domina.» Témoignages de la lecture et de l'écriture féminine dans l'Empire romain
CATEGORIES:Conférence
LOCATION:MIS 03\, 3118\, Avenue de l'Europe 20\, 1700 Fribourg
URL;VALUE=URI:https://agenda.unifr.ch/e/fr/19703
END:VEVENT
END:VCALENDAR