BEGIN:VCALENDAR
VERSION:2.0
PRODID:-//UNIFR/WEBMASTER//NONSGML v1.0//EN
CALSCALE:GREGORIAN
BEGIN:VEVENT
DTSTART;VALUE=DATE:20260904T000000
DTEND;VALUE=DATE:20260904T000000
UID:19701@agenda.unifr.ch
DESCRIPTION:Swiss AI in the Making centers on Artificial Intelligence in the context of Switzerland\n\nThe event is part of the 25th anniversary of the Swiss STS Association. To celebrate, a series of events throughout the year are organized, designed to raise the value and richness of Science and Technology Studies (STS) within Switzerland’s academic community. The event series is supported by the Swiss Academy of Humanities and Social Sciences.\n
SUMMARY:Swiss AI in the Making: a Sociotechnical Inquiry
CATEGORIES:Autre
LOCATION:PER 17\, 001\, Chemin du Musée 18\, 1700 Fribourg
URL;VALUE=URI:https://agenda.unifr.ch/e/fr/19701
END:VEVENT
END:VCALENDAR