BEGIN:VCALENDAR
VERSION:2.0
PRODID:-//UNIFR/WEBMASTER//NONSGML v1.0//EN
CALSCALE:GREGORIAN
BEGIN:VEVENT
DTSTART;VALUE=DATE:20260531T150000
DTEND;VALUE=DATE:20260531T160000
UID:19700@agenda.unifr.ch
DESCRIPTION:Chaque dernier dimanche du mois, un·e guide du Musée Bible+Orient propose une visite sur la thématique de son choix. La visite est gratuite et ouverte à tous·tes!\n\nSur inscription uniquement, par mail (elodie.bauer@unifr.ch) ou par téléphone au +41 26 300 7387 (mardi-dimanche, 14h-17h).\n\nCe mois-ci, la visite sera donnée en français.\n\n
SUMMARY:La visite thématique du mois au Musée Bible+Orient 
CATEGORIES:Visite guidée
LOCATION:MIS 06\, Musée BIBLE+ORIENT\, Avenue de l'Europe 20\, 1700 Fribourg
URL;VALUE=URI:https://agenda.unifr.ch/e/fr/19700
END:VEVENT
END:VCALENDAR