BEGIN:VCALENDAR
VERSION:2.0
PRODID:-//UNIFR/WEBMASTER//NONSGML v1.0//EN
CALSCALE:GREGORIAN
BEGIN:VEVENT
DTSTART;VALUE=DATE:20260424T090000
DTEND;VALUE=DATE:20260424T124500
UID:19699@agenda.unifr.ch
DESCRIPTION:09:00-10:00              Keynote 3: Nele Wynants: Louder, Brighter, Stranger: Theatricality, Sound, and the Culture of Attractions on the Nineteenth-Century Fairground (Chair: Nicholas Rogers) \n\n10:00-10:15              Coffee break \n\n10:15-12:30              Session 6: Cultures of the fairground (Achille Kienholz) \n\nErkki Huhtamo: What is Culture of Attractions?      \n\nMargit Ramus: Deutsche Volksfestkultur, deren zentrales Element, die SchaustellerInnen und Schausteller sind \n\nIan Trowell: 'Rave Machines' - On British Fairgrounds and Pop Music \n\n12:30-12:45              Concluding remarks 
SUMMARY:The musical world of Fairgrounds in Europe, 19th-21st centuries
CATEGORIES:Colloque / Congrès / Forum
LOCATION:MIS 02\, MIS 02 2033 musicologie\, Avenue de l'Europe 20\, 1700 Fribourg
URL;VALUE=URI:https://agenda.unifr.ch/e/fr/19699
END:VEVENT
END:VCALENDAR