BEGIN:VCALENDAR
VERSION:2.0
PRODID:-//UNIFR/WEBMASTER//NONSGML v1.0//EN
CALSCALE:GREGORIAN
BEGIN:VEVENT
DTSTART;VALUE=DATE:20260423T090000
DTEND;VALUE=DATE:20260423T190000
UID:19698@agenda.unifr.ch
DESCRIPTION:Thursday 23 April \n\n09:00-10:00              Keynote 2: Philippe Crasse: Orgues en fête: musique dans le monde forain, 1850-1950 (Chair : Achille Kienholz) \n\n10:00-10:15              Coffee break \n\n10:15-11:45              Session 3: Mechanical music (chair: Ursula Bürgisser) \n\nRaphael Lüthi:  Mechanische Musikinstrumente für den Jahrmarkt: Herkunft, Entwicklungsgeschichte, Musik \n\nAchille Kienholz: Devices of Heritage: The Role of Mechanical Music in the Historicization of European Funfairs \n\n11:45-13:30              Lunch \n\n13:30-15:00              Session 4: Early cinema 2 (chair: Erkki Huhtamo) \n\nMarco Ladd: Accidental Synchrony in Fairground Film Exhibition \n\nNicholas Rogers: The Performative Architecture of Fairground Cinema \n\n15:00-15:15              Coffee break \n\n15:15-16:45              Session 5: Reception of the fairground in postwar France (chair: Sarah Kirby) \n\nTatiana Senkevitch: Henri Sauguet’s Les Forains in the Context of Postwar Culture \n\nAnna Stoll Knecht: The Fairground Imaginaire in Jacques Tati’s Films 
SUMMARY:The musical world of Fairgrounds in Europe, 19th-21st centuries
CATEGORIES:Colloque / Congrès / Forum
LOCATION:MIS 02\, MIS 02 2033 musicologie\, Avenue de l'Europe 20\, 1700 Fribourg
URL;VALUE=URI:https://agenda.unifr.ch/e/fr/19698
END:VEVENT
END:VCALENDAR