BEGIN:VCALENDAR
VERSION:2.0
PRODID:-//UNIFR/WEBMASTER//NONSGML v1.0//EN
CALSCALE:GREGORIAN
BEGIN:VEVENT
DTSTART;VALUE=DATE:20260422T090000
DTEND;VALUE=DATE:20260422T200000
UID:19697@agenda.unifr.ch
DESCRIPTION:Wednesday 22 April \n\n9:00-9:30                    Welcome \n\n9:30-9:45                    General introduction \n\n9:45-10:45                 Keynote 1: Zeev Gourarier: De la foire à la fête foraine (Chair : Anna Stoll Knecht) \n\n10:45-11:00              Coffee break \n\n11:00-12:30              Session 1: Diverse sounds on the fairground (chair: Nele Wynants) \n\nAgnès Curel: Le bonisseur et ses boniments dans les fêtes foraines :  exploration d’un univers sonore (1870-1914) \n\nSarah Kirby: ‘A Band of Fair Performers’: The Viennese Ladies’ Orchestra in British Fairgrounds, 1885–1895 \n\n12:30-14:00              Lunch \n\n14:00-15:30              Session 2: Early cinema and audiovisual media (chair: Marco Ladd)\n\nArnaud Le Marchand: Un monstre sous la tente : évolution du cinéma forain \n\nMatt Lawson: The Audiovisual Role of Fairground Music in Film, TV, and Games \n\n15:30-15:45              Coffee Break \n\n15:45-16:30              Gergely Loch: Belgian Fairground Organ in the Soundtrack of a Hungarian Cartoon \n\n18:00-20:00              Fairground and Barrel Organ Demonstration by Ursula Bürgisser, Peter X. Bürgisser, Ueli Temperli and Willy Bourquin at the Espace Jean Tinguely - Niki de Saint-Phalle 
SUMMARY:The musical world of Fairgrounds in Europe, 19th-21st centuries
CATEGORIES:Colloque / Congrès / Forum
LOCATION:MIS 02\, 2033 musicologie\, Avenue de l'Europe 20\, 1700 Fribourg
URL;VALUE=URI:https://agenda.unifr.ch/e/fr/19697
END:VEVENT
END:VCALENDAR