BEGIN:VCALENDAR
VERSION:2.0
PRODID:-//UNIFR/WEBMASTER//NONSGML v1.0//EN
CALSCALE:GREGORIAN
BEGIN:VEVENT
DTSTART;VALUE=DATE:20260430T181500
DTEND;VALUE=DATE:20260430T200000
UID:19693@agenda.unifr.ch
DESCRIPTION:Présentiel et en ligne\nStreaming (Youtube): https://www.youtube.com/@observactutv / visioconférence (Kmeet): https://kmeet.infomaniak.com/2ye6ewameofu8jwa7ezgewem, Code de la réunion: 6337688927
SUMMARY:Table ronde: La révolution bolivarienne et cubaine, quelle place dans l'histoire? Quelles perspectives?
CATEGORIES:Conférence
LOCATION:MIS 03\, Auditoire C\, Avenue de l'Europe 20\, 1700 Fribourg
URL;VALUE=URI:https://agenda.unifr.ch/e/fr/19693
END:VEVENT
END:VCALENDAR