BEGIN:VCALENDAR
VERSION:2.0
PRODID:-//UNIFR/WEBMASTER//NONSGML v1.0//EN
CALSCALE:GREGORIAN
BEGIN:VEVENT
DTSTART;VALUE=DATE:20260507
DTEND;VALUE=DATE:20260509
UID:19691@agenda.unifr.ch
DESCRIPTION:This symposium brings together scholars from across disciplines to explore how bodies were imagined, regulated, and materially transformed between the 16th and 18th centuries. Foregrounding com- parative, praxeological, and interdiscipli- nary approaches, the conference will encourage dialogue between historians of medicine, art and literature, social and cultural historians, anthropologists, and scholars of science and technology. Contributions will address themes such as embodied labor and skill, training and educational technologies, medical and surgical interventions, representations of bodily change, and the entanglement of corporeal practices with religious, politi- cal, and social norms. By doing so, the symposium aims to reframe the early modern body (or rather, bodies) as not a stable given but as a mutable, contested, and productive site of human experience. Moreover, it attempts to compare differ- ent practices of corporeal modification across the early modern world and to analyze their significance for past (and present) societies.
SUMMARY:Modified Bodies Working, Disciplining, and Shaping the Body in the Early Modern World
CATEGORIES:Journée
LOCATION:MIS 04\, 4112 Espace Jäggi\, Avenue de l'Europe 20\, 1700 Fribourg
URL;VALUE=URI:https://agenda.unifr.ch/e/fr/19691
END:VEVENT
END:VCALENDAR