BEGIN:VCALENDAR
VERSION:2.0
PRODID:-//UNIFR/WEBMASTER//NONSGML v1.0//EN
CALSCALE:GREGORIAN
BEGIN:VEVENT
DTSTART;VALUE=DATE:20260430
DTEND;VALUE=DATE:20260502
UID:19689@agenda.unifr.ch
DESCRIPTION:Journée d'étude et workshop pour les doctorants de l'Institut Fribourgeois d'étude de la Renaissance et de l'époque moderne (IFR).\n\nClaire Absil «Aux sources du locus inamoenus alpin de la Renaissance»\n\nRépondante: Delphine Acolat | Université de Bretagne Occidentale\n\nJann Kraus «Imagining the Queer-Headed Household. Exploring Domestic Units in the Life of Anne Lister (1791-1840)»\n\nRespondentin: Monika Mommertz | Universität Basel\n\nKlara Bourban «Le miracle de nostre Siecle: construction de la figure de Madeleine de Scudéry (1650-1715)»\n\nRépondante: Marine Roussillon | Université Paris Sorbonne Nouvelle\n\nLaura Gloeckler «"S'ensuit le procez criminel et confession faittes!...]": Hexenprozesse als Praktiken frühneuzeitlicher Raumproduktion in ausgewahlten Herrschaftsräumen des ehemaligen Fürstbistums Basel (1511-1741)»\n\nRépondante: Martine Ostorero | Université de Lausanne
SUMMARY:Troisième Journée d'étude de l'Ecole doctorale ProMoRen
CATEGORIES:Journée d'études
LOCATION:MIS 04\, 4112 Espace Jäggi\, Avenue de l'Europe 20\, 1700 Fribourg
URL;VALUE=URI:https://agenda.unifr.ch/e/fr/19689
END:VEVENT
END:VCALENDAR