BEGIN:VCALENDAR
VERSION:2.0
PRODID:-//UNIFR/WEBMASTER//NONSGML v1.0//EN
CALSCALE:GREGORIAN
BEGIN:VEVENT
DTSTART;VALUE=DATE:20260527T180000
DTEND;VALUE=DATE:20260527T180000
UID:19687@agenda.unifr.ch
DESCRIPTION:Dans le cadre de l'exposition «Le hockey sur glace à Fribourg» à l'Atelier
SUMMARY:Soirée Sportvintage avec la RTS
CATEGORIES:Autre
LOCATION:L'Atelier\, Place Notre-Dame 16\, 1700 Fribourg
URL;VALUE=URI:https://agenda.unifr.ch/e/fr/19687
END:VEVENT
END:VCALENDAR