BEGIN:VCALENDAR
VERSION:2.0
PRODID:-//UNIFR/WEBMASTER//NONSGML v1.0//EN
CALSCALE:GREGORIAN
BEGIN:VEVENT
DTSTART;VALUE=DATE:20260423T180000
DTEND;VALUE=DATE:20260423T180000
UID:19686@agenda.unifr.ch
DESCRIPTION:Vernissage du numéro 4 de la revue «Les Sports Modernes»\n\n
SUMMARY:Argent, sports et politique
CATEGORIES:Autre
LOCATION:Musée d'art et d'histoire de Fribourg\, Rue de Morat 12\, 1700 Fribourg
URL;VALUE=URI:https://agenda.unifr.ch/e/fr/19686
END:VEVENT
END:VCALENDAR