BEGIN:VCALENDAR
VERSION:2.0
PRODID:-//UNIFR/WEBMASTER//NONSGML v1.0//EN
CALSCALE:GREGORIAN
BEGIN:VEVENT
DTSTART;VALUE=DATE:20260430
DTEND;VALUE=DATE:20260531
UID:19685@agenda.unifr.ch
DESCRIPTION:Vernissage d'une exposition sur l’histoire du hockey sur glace dans le canton de Fribourg à l’occasion du Championnat du monde de Hockey sur glace 2026.
SUMMARY:Le hockey sur glace à Fribourg
CATEGORIES:Exposition
LOCATION:L'Atelier\, Place Notre-Dame 16\, 1700 Fribourg
URL;VALUE=URI:https://agenda.unifr.ch/e/fr/19685
END:VEVENT
END:VCALENDAR