BEGIN:VCALENDAR
VERSION:2.0
PRODID:-//UNIFR/WEBMASTER//NONSGML v1.0//EN
CALSCALE:GREGORIAN
BEGIN:VEVENT
DTSTART;VALUE=DATE:20260602T170000
DTEND;VALUE=DATE:20260602T190000
UID:19684@agenda.unifr.ch
DESCRIPTION:Zwischen Daten und Didaktik: Empirische Zugänge zum Sprachenlehren und -lernen
SUMMARY:Leçon d'adieu du Prof. Thomas Studer
CATEGORIES:Leçon d'adieu
LOCATION:MIS 10\, 01.13\, Rue de Rome 1\, 1700 Fribourg
URL;VALUE=URI:https://agenda.unifr.ch/e/fr/19684
END:VEVENT
END:VCALENDAR