BEGIN:VCALENDAR
VERSION:2.0
PRODID:-//UNIFR/WEBMASTER//NONSGML v1.0//EN
CALSCALE:GREGORIAN
BEGIN:VEVENT
DTSTART;VALUE=DATE:20260609T090000
DTEND;VALUE=DATE:20260609T120000
UID:19677@agenda.unifr.ch
DESCRIPTION:Get the best out of your light microscopy data. No microscope is perfect, but image restoration techniques can help researchers to improve their measurements, remove blur, increase signal-to-noise ratio and ultimately improve the spacial resolution. \nThis half-day workshop will introduce participants to Huygens Professional and its capabilities to pre-process light microscopy data in order to improve its overall quality. 
SUMMARY:Image restoration workshop with Huygens Professional 
CATEGORIES:Autre
LOCATION:PER 21\, B230\, Bd de Pérolles 90\, 1700 Fribourg
URL;VALUE=URI:https://agenda.unifr.ch/e/fr/19677
END:VEVENT
END:VCALENDAR