BEGIN:VCALENDAR
VERSION:2.0
PRODID:-//UNIFR/WEBMASTER//NONSGML v1.0//EN
CALSCALE:GREGORIAN
BEGIN:VEVENT
DTSTART;VALUE=DATE:20260922T121500
DTEND;VALUE=DATE:20260922T140000
UID:19674@agenda.unifr.ch
DESCRIPTION:Le CV – de sa mise en forme à son contenu\n\nParticipez à ce webinaire pour apprendre à rédiger un CV qui se démarque et à l’adapter à vos expériences ainsi qu’à l’emploi visé. Découvrez comment valoriser votre parcours universitaire et vous présenter de manière claire, précise et attractive.\n\nCet événement s’adresse aux étudiant·e·s et doctorant·e·s de toutes les facultés.
SUMMARY:Le CV
CATEGORIES:Autre
LOCATION:
URL;VALUE=URI:https://agenda.unifr.ch/e/fr/19674
END:VEVENT
END:VCALENDAR