BEGIN:VCALENDAR
VERSION:2.0
PRODID:-//UNIFR/WEBMASTER//NONSGML v1.0//EN
CALSCALE:GREGORIAN
BEGIN:VEVENT
DTSTART;VALUE=DATE:20260924T121500
DTEND;VALUE=DATE:20260924T133000
UID:19672@agenda.unifr.ch
DESCRIPTION:Der Lebenslauf – übersichtlich und relevant\n\nIn diesem Webinar lernen Sie, wie Sie einen überzeugenden Lebenslauf erstellen und gezielt auf ihre Erfahrungen sowie auf die angestrebte Stelle zuschneiden. Der Fokus liegt auf einer klaren, präzisen und professionellen Darstellung des eigenen Profils.\n\nGeeignet für Studierende und Doktorierende aller Fakultäten.\n\nHinweis: Der akademische Lebenslauf ist nicht Gegenstand dieses Webinars.
SUMMARY:Der Lebenslauf
CATEGORIES:Autre
LOCATION:
URL;VALUE=URI:https://agenda.unifr.ch/e/fr/19672
END:VEVENT
END:VCALENDAR