BEGIN:VCALENDAR
VERSION:2.0
PRODID:-//UNIFR/WEBMASTER//NONSGML v1.0//EN
CALSCALE:GREGORIAN
BEGIN:VEVENT
DTSTART;VALUE=DATE:20260529T153000
DTEND;VALUE=DATE:20260529T200000
UID:19664@agenda.unifr.ch
DESCRIPTION:Passez nous voir sur le campus de l’Université de Fribourg, Rue de Morat 36, le 29 mai dès 15h30.\nVenez chatouiller des vers microscopiques, débattre et jouer avec «La\ngénétique autrement», ou encore partager un souvenir d’école. A partir de\n16h30, une table ronde animée par Patricia Michaud, journaliste scientifique,\nréunira:\n- Jérémie Passeraub, doctorant en sciences de l’éducation et spécialiste du\ndéveloppement de l’autonomie de l’élève,\n- Marco Vencato, vice-directeur de la Fondation Gebert Rüf,\n- Juliane Ançay, adjointe de direction au cycle d’orientation de Cugy (FR),\n- Laura Deschenaux, élève de gymnase.\n\nQuels «sens» pour nos écoles ?\n\nDans un monde complexe où les connaissances sont, ici du moins,\naccessibles à toutes et tous, que faut-il encore apprendre? Que peut-on\nmettre en place pour accompagner un apprentissage qui ait du sens? Et\naussi peut-être comment redonner goût et saveur à l’effort d’apprendre?\nDans une démarche citoyenne qui valorise l’échange et l’esprit critique, cette\ntable ronde sera un espace privilégié pour débattre de ce que l’école doit\npréserver et de ce qu’elle doit faire évoluer.\nA 18h00, un moment de réflexion et de poésie artistique au cœur de\nl'univers textile d'Emmanuelle Premel-Cabic nous permettra de vous\nprésenter la suite de nos aventures.\nN’oubliez pas de vous inscrire ici avant le 24 avril pour que nous puissions\nvous offrir l’apéro dès 18h30 pour prolonger les échanges de manière\nconviviale!
SUMMARY:Afterwork Event – Clôture du projet «Toutes et tous Labscitoyen·ne·s»
CATEGORIES:Autre
LOCATION:RMO 01 A\, Aula\, Rue de Morat 36\, 1700 Fribourg
URL;VALUE=URI:https://agenda.unifr.ch/e/fr/19664
END:VEVENT
END:VCALENDAR