BEGIN:VCALENDAR
VERSION:2.0
PRODID:-//UNIFR/WEBMASTER//NONSGML v1.0//EN
CALSCALE:GREGORIAN
BEGIN:VEVENT
DTSTART;VALUE=DATE:20260625
DTEND;VALUE=DATE:20260628
UID:19649@agenda.unifr.ch
DESCRIPTION:«Tout le monde adore quelque chose. Le seul choix qui s'offre à nous est de décider quoi adorer»\nDavid Foster Wallace, This is Water\n\nLe monde numérique nous confronte à un flot sans précédent d'images, d'histoires et d'idées. Elles influencent toutes notre vision du monde, nos aspirations, nos objets de culte. Consciemment ou inconsciemment, chaque être humain voue un culte à quelque chose.\n\nQuelles sont les images, les histoires et les idées marquantes de notre époque? Où nous mènent-elles? Comment nous façonnent-elles? Quel·s dieu·x ou idole·s servent-elles? Et comment parvenir à voir ce monde à la lumière de l'Évangile et à le rendre accessible à d'autres?\n\nEn compagnie de James K. A. Smith, auteur de renommée mondiale, et à travers une multitude de perspectives passionnantes issues de la culture, de la théologie, de l'histoire et du présent, nous nous pencherons sur ces questions lors du Forum Foi & Société 2026.
SUMMARY:Images en furie – Culte de l'image, fausses icônes et l'Evangile aujourd'hui
CATEGORIES:Journée
LOCATION:Couvent des Cordeliers\, Rue de Morat 4\, 1700 Fribourg
URL;VALUE=URI:https://agenda.unifr.ch/e/fr/19649
END:VEVENT
END:VCALENDAR