BEGIN:VCALENDAR
VERSION:2.0
PRODID:-//UNIFR/WEBMASTER//NONSGML v1.0//EN
CALSCALE:GREGORIAN
BEGIN:VEVENT
DTSTART;VALUE=DATE:20260507T000000
DTEND;VALUE=DATE:20260507T000000
UID:19472@agenda.unifr.ch
DESCRIPTION:Ce séminaire a pour but de donner aux praticiens une vision d’ensemble des problématiques les plus actuelles liées au concubinage. La matinée sera consacrée à l'étude de la situation actuelle des concubins quant aux effets que l'union et la désunion induisent sur trois niveaux: le statut civil des concubins, les relations entre les concubins vis-à-vis des tiers et les relations entre les concubins à l'égard de l'Etat. La présentation de l'après-midi donnera des pistes pour sauvegarder au mieux les intérêts de la partie faible. Après avoir identifié les lacunes juridiques relatives à ce modèle d'organisation de vie de couple, la conférence proposera des exemples de conventions permettant de régler efficacement de nombreuses questions liées à la communauté de vie non maritale. Ces exemples de conventions apportent une aide précieuse aux juristes appelés à résoudre les problèmes de droit des concubins, en offrant en particulier de nombreuses solutions pour avantager la partie faible.
SUMMARY:Le concubinage : les rapports entre concubins
CATEGORIES:Séminaire
LOCATION:MIS 08\, Service de la formation continue\, Rue de Rome 6\, 1700 Fribourg
URL;VALUE=URI:https://agenda.unifr.ch/e/fr/19472
END:VEVENT
END:VCALENDAR