BEGIN:VCALENDAR
VERSION:2.0
PRODID:-//UNIFR/WEBMASTER//NONSGML v1.0//EN
CALSCALE:GREGORIAN
BEGIN:VEVENT
DTSTART;VALUE=DATE:20260430T000000
DTEND;VALUE=DATE:20260430T000000
UID:19471@agenda.unifr.ch
DESCRIPTION:Expertinnen und Experten referieren zu faktischen Lebensgemeinschaften im Erbrecht und im Sozialversicherungsrecht, zu Kindern in faktischen Lebensgemeinschaften, zu den Auswirkungen von faktischen Lebensgemeinschaften auf Unterhaltsbeiträge, zu Möglichkeiten für faktische Lebenspartnerinnen und Lebenspartnern, sich vertraglich abzusichern sowie zu den Folgen der Auflösung einer faktischen Lebensgemeinschaft, wenn eine solche Absicherung fehlt.
SUMMARY:Faktische Lebensgemeinschaften: rechtliche (Un-)Sicherheiten
CATEGORIES:Séminaire
LOCATION:MIS 08\, Weiterbildungszentrum\, Rue de Rome 6\, 1700 Fribourg
URL;VALUE=URI:https://agenda.unifr.ch/e/fr/19471
END:VEVENT
END:VCALENDAR