BEGIN:VCALENDAR
VERSION:2.0
PRODID:-//UNIFR/WEBMASTER//NONSGML v1.0//EN
CALSCALE:GREGORIAN
BEGIN:VEVENT
DTSTART;VALUE=DATE:20260516T140000
DTEND;VALUE=DATE:20260516T150000
UID:19468@agenda.unifr.ch
DESCRIPTION:Le Musée BIBLE+ORIENT et l'artiste-céramiste Marion Offner, dite mao, proposent une visite guidée de l'exposition temporaire «Le feu a rendu l'âme», qui présente à l'Université de Fribourg des créations originales de mao inspirées des artefacts anciens du musée.  \n\nLa visite débutera au Musée BIBLE+ORIENT, où seront présentés dans leur contexte les objets qui ont inspiré mao. Nous nous dirigerons ensuite vers les vitrines où sont exposés les créations originales de mao. Celle-ci commentera ses objets en expliquant sa démarche.\n\nRendez-vous le samedi 16 mai à 14h au Musée BIBLE+ORIENT (entrée extérieure, Ruelle-Laure Dupraz 1; la porte sera probablement fermée, si oui, il faudra simplement attendre devant et nous viendrons vous accueillir !)
SUMMARY:Visite guidée de l'exposition «Le feu a rendu l'âme» 
CATEGORIES:Visite guidée
LOCATION:MIS 06\, Musée BIBLE+ORIENT\, Avenue de l'Europe 20\, 1700 Fribourg
URL;VALUE=URI:https://agenda.unifr.ch/e/fr/19468
END:VEVENT
END:VCALENDAR