BEGIN:VCALENDAR
VERSION:2.0
PRODID:-//UNIFR/WEBMASTER//NONSGML v1.0//EN
CALSCALE:GREGORIAN
BEGIN:VEVENT
DTSTART;VALUE=DATE:20261109T123000
DTEND;VALUE=DATE:20261109T133000
UID:19461@agenda.unifr.ch
DESCRIPTION:Par convention, les CV académiques privilégient en général des listes exhaustives d’activités de recherche, de publications et d’expériences d’enseignement. En dehors du milieu universitaire, toutefois, les personnes responsables du recrutement et les employeurs s’attendent à une approche différente, qui mette en avant les compétences pratiques et transversales acquises durant son parcours académique. \n\nCette session introduit les principales différences entre un CV académique et un CV destiné à des postes en dehors du milieu universitaire. Nous évoquerons l’importance d’adapter son CV aux attentes de milieux professionnels variés ainsi que l’évolution nécessaire de la structure et du contenu. Les personnes participantes recevront des conseils pratiques pour reformuler leur expérience de recherche en compétences transférables. \n\nPublic cible: doctorant·e·s et postdocs. \n\nCet événement se déroulera en format hybride. La présentation durera env. 20 minutes et sera suivie par env. 10 minutes de questions-réponses. La session se terminera par 30 minutes de discussion et d’échanges informels tout en dégustant des biscuits. Pendant ce temps, des membres du SPR seront présents pour répondre à vos questions.  \n\nVeuillez noter que l’événement sera enregistré et que les personnes participant en ligne pourront assister uniquement à la présentation et à la session de questions-réponses. \n\nCet événement sera donné en anglais. Les questions pourront également être posées en français ou allemand. 
SUMMARY:Rédiger un CV non académique: comment «transposer» vos compétences 
CATEGORIES:Séminaire
LOCATION:MIS 04\, pas encore connue\, Avenue de l'Europe 20\, 1700 Fribourg
URL;VALUE=URI:https://agenda.unifr.ch/e/fr/19461
END:VEVENT
END:VCALENDAR