BEGIN:VCALENDAR
VERSION:2.0
PRODID:-//UNIFR/WEBMASTER//NONSGML v1.0//EN
CALSCALE:GREGORIAN
BEGIN:VEVENT
DTSTART;VALUE=DATE:20260907T123000
DTEND;VALUE=DATE:20260907T133000
UID:19460@agenda.unifr.ch
DESCRIPTION:Les CV académiques traditionnels mettent l’accent sur des indicateurs quantitatifs tels que le nombre de publications, les impact factors des revues scientifiques, les classements institutionnels et d’autres marqueurs de prestige. Cependant, les organismes de financement et les institutions de recherche se distancient de plus en plus par rapport à ces pratiques. Les CV narratifs se sont imposés comme instruments clefs de cette évolution, en reconnaissance, valorisant et récompensant la diversité des profils et des parcours de recherche, en mettant en avant les compétences, réalisations et contributions scientifiques.  \n\nCet événement présente le concept de CV narratif dans le contexte des demandes de financement. Nous soulignerons les différences entre un CV académique traditionnel et un CV narratif et discuterons des raisons pour lesquelles un nombre croissance d’organismes de financement adoptent cette approche. Les participant·e·s recevront des conseils pratiques pour rédiger un CV narratif convaincant. La session se terminera par une présentation du CV narratif du FNS et ses exigences spécifiques.  \n\nPublic cible: toutes les chercheur·euse·s de l’Unifr, des doctorant·e·s, postdocs aux professeur·e·s.  \n\nCet événement se déroulera en format hybride. La présentation durera env. 20 minutes et sera suivie par env. 10 minutes de questions-réponses. La session se terminera par 30 minutes de discussion et d’échanges informels tout en dégustant des biscuits. Pendant ce temps, des membres du SPR seront présents pour répondre à vos questions.  \n\n Veuillez noter que l’événement sera enregistré et que les personnes participant en ligne pourront assister uniquement à la présentation et à la session de questions-réponses. \n\nCet événement sera donné en anglais. Les questions pourront également être posées en français ou allemand. 
SUMMARY:Le CV narratif: racontez votre parcours de recherche
CATEGORIES:Séminaire
LOCATION:PER 18\, Adolphe Merkle Institute Auditorium 3rd floor\, Chemin des Verdiers 4\, 1700 Fribourg
URL;VALUE=URI:https://agenda.unifr.ch/e/fr/19460
END:VEVENT
END:VCALENDAR