BEGIN:VCALENDAR
VERSION:2.0
PRODID:-//UNIFR/WEBMASTER//NONSGML v1.0//EN
CALSCALE:GREGORIAN
BEGIN:VEVENT
DTSTART;VALUE=DATE:20260622T123000
DTEND;VALUE=DATE:20260622T133000
UID:19459@agenda.unifr.ch
DESCRIPTION:Soumettre des demandes de financement peut sembler chronophage et gourmand en ressources, mais cela ne doit pas forcément être le cas. Avec des processus de travail adaptés, les chercheuses et chercheurs peuvent réduire considérablement les efforts nécessaires à la préparation d’une demande, sans compromettre leurs chances de succès. \n\nCette présentation propose des approches pour simplifier le processus de soumission de demandes de financement. Nous verrons comment planifier les soumissions de manière stratégique et intégrer efficacement la rédaction de projets dans les activités de recherche en cours. La séance fournira des conseils concrets afin d’aider les participantes et participants à soumettre des demandes plus régulièrement, sans alourdir leur charge de travail. \n\nPublic cible: l’ensemble des chercheur·euse·s de l’Unifr, des doctorant·e·s et des postdoctorant·e·s jusqu’aux professeur·e·s. \n\nCet événement se déroulera en format hybride. La présentation durera env. 20 minutes et sera suivie par env. 10 minutes de questions-réponses. La session se terminera par 30 minutes de discussion et d’échanges informels tout en dégustant des biscuits. Pendant ce temps, des membres du SPR seront présents pour répondre à vos questions.  \n\nVeuillez noter que l’événement sera enregistré et que les personnes participant en ligne pourront assister uniquement à la présentation et à la session de questions-réponses. \n\nCet événement sera donné en anglais. Les questions pourront également être posées en français ou allemand. 
SUMMARY:Soumettre des demandes de financement avec un minimum d'effort
CATEGORIES:Séminaire
LOCATION:PER 21\, E040\, Bd de Pérolles 90\, 1700 Fribourg
URL;VALUE=URI:https://agenda.unifr.ch/e/fr/19459
END:VEVENT
END:VCALENDAR