BEGIN:VCALENDAR
VERSION:2.0
PRODID:-//UNIFR/WEBMASTER//NONSGML v1.0//EN
CALSCALE:GREGORIAN
BEGIN:VEVENT
DTSTART;VALUE=DATE:20260427T123000
DTEND;VALUE=DATE:20260427T133000
UID:19458@agenda.unifr.ch
DESCRIPTION:Les programmes de financement européens sont moins bien connus que les programmes nationaux, par exemple ceux du FNS. Cet événement vous montrera comment explorer les possibilités de financement dans le cadre d'Horizon Europe et entrer en contact avec des partenaires potentiel·le·s pour votre prochaine requête. La session est conçue pour les chercheuses et chercheurs qui souhaitent mieux comprendre le programme et augmenter leurs chances de réussite. \n\nNous présenterons brièvement les principaux moyens de financement du deuxième pilier d'Horizon Europe, nous expliquerons comment identifier les appels pertinents dans le programme de travail et nous montrerons comment interpréter les textes des appels de manière efficace. Plus important encore, nous présenterons des ressources de recherche de partenaires spécifiques aux disciplines afin de vous aider à trouver des partenaires adéquat·e·s et à construire des consortiums internationaux solides. \n\nPublic cible : chercheur·euse·s Unifr expérimenté·e·s, à partir du niveau postdoctoral.  \n\nCet événement se déroulera en format hybride. La présentation durera env. 20 minutes et sera suivie par env. 10 minutes de questions-réponses. La session se terminera par 30 minutes de discussion et d’échanges informels tout en dégustant des biscuits. Pendant ce temps, des membres du SPR seront présents pour répondre à vos questions.  \n\nVeuillez noter que l’événement sera enregistré et que les personnes participant en ligne pourront assister uniquement à la présentation et à la session de questions-réponses. \n\nCet événement sera donné en anglais. Les questions pourront également être posées en français ou allemand. \n 
SUMMARY:Horizon Europe Matchmaking
CATEGORIES:Séminaire
LOCATION:MIS 04\, 4112 (Salle Jäggi)\, Avenue de l'Europe 20\, 1700 Fribourg
URL;VALUE=URI:https://agenda.unifr.ch/e/fr/19458
END:VEVENT
END:VCALENDAR