BEGIN:VCALENDAR
VERSION:2.0
PRODID:-//UNIFR/WEBMASTER//NONSGML v1.0//EN
CALSCALE:GREGORIAN
BEGIN:VEVENT
DTSTART;VALUE=DATE:20260423T173000
DTEND;VALUE=DATE:20260423T190000
UID:19456@agenda.unifr.ch
DESCRIPTION:La relativité du temps (séminaire en 2019), La physique quantique (en 2023), jadis, et\nmaintenant Libre arbitre et neurologie révèlent la continuité de de nos rencontres sous l’égide\ndes rapports qui lient étroitement la sciences et la philosophie. Deux jeunes scientifiques nous\nparleront de neurologie sous l’aspect informatique et électronique (logique programmée et\nlogique câblée) : le cerveau fonctionne avec des circuits électriques avec « interrupteurs » pour\ncréer des signaux binaires (0 ou 1). Cette dynamique suggère que nos choix sont influencés\npar des processus automatiques, à savoir des programmes neuronaux, et non par des\ndécisions purement conscientes. La notion de libre arbitre est donc en question.\n\nConférence suivie d’une discussion avec Nicolas Fricker et Safaa Habib,avec la modération de Georges Savoy
SUMMARY:Libre arbitre et neurologie
CATEGORIES:Conférence
LOCATION:1.3.8 (bâtiment principal, 3è étage), collège St-Michel\, Rue St-Pierre-Canisius 10\, 1700 Fribourg
URL;VALUE=URI:https://agenda.unifr.ch/e/fr/19456
END:VEVENT
END:VCALENDAR