BEGIN:VCALENDAR
VERSION:2.0
PRODID:-//UNIFR/WEBMASTER//NONSGML v1.0//EN
CALSCALE:GREGORIAN
BEGIN:VEVENT
DTSTART;VALUE=DATE:20260311T091500
DTEND;VALUE=DATE:20260311T000000
UID:19445@agenda.unifr.ch
DESCRIPTION:
SUMMARY:Corporate Governance and Compliance in the Financial Industry
CATEGORIES:Conférence
LOCATION:PER 21\, E130\, Bd de Pérolles 90\, 1700 Fribourg
URL;VALUE=URI:https://agenda.unifr.ch/e/fr/19445
END:VEVENT
END:VCALENDAR