BEGIN:VCALENDAR
VERSION:2.0
PRODID:-//UNIFR/WEBMASTER//NONSGML v1.0//EN
CALSCALE:GREGORIAN
BEGIN:VEVENT
DTSTART;VALUE=DATE:20260518T111500
DTEND;VALUE=DATE:20260518T120000
UID:19443@agenda.unifr.ch
DESCRIPTION:
SUMMARY:Geocolloquium SS2026 | Power to the People. Procedural Justice in Loss and Damage Governance
CATEGORIES:Colloque / Congrès / Forum
LOCATION:PER 14\, Auditoire 0.026\, Chemin du Musée 4\, 1700 Fribourg
URL;VALUE=URI:https://agenda.unifr.ch/e/fr/19443
END:VEVENT
END:VCALENDAR