BEGIN:VCALENDAR
VERSION:2.0
PRODID:-//UNIFR/WEBMASTER//NONSGML v1.0//EN
CALSCALE:GREGORIAN
BEGIN:VEVENT
DTSTART;VALUE=DATE:20260528T121500
DTEND;VALUE=DATE:20260528T133000
UID:19433@agenda.unifr.ch
DESCRIPTION:The event is free and open to all but registration is mandatory.
SUMMARY:Food in between tradition and technology – Should we eat like our grandparents? 
CATEGORIES:Séminaire
LOCATION:PER 21\, C230\, Bd de Pérolles 90\, 1700 Fribourg
URL;VALUE=URI:https://agenda.unifr.ch/e/fr/19433
END:VEVENT
END:VCALENDAR