BEGIN:VCALENDAR
VERSION:2.0
PRODID:-//UNIFR/WEBMASTER//NONSGML v1.0//EN
CALSCALE:GREGORIAN
BEGIN:VEVENT
DTSTART;VALUE=DATE:20260401T133000
DTEND;VALUE=DATE:20260401T143000
UID:19431@agenda.unifr.ch
DESCRIPTION:\n\nVerteidigung: Tabea Fröbel
SUMMARY:Masterverteidigung: «Innerhalb 2 ½ Wochen waren es deren Zwölf!».  Wie Schwangerschaftsabbrüche an der Pflegerinnenschule mit Frauenspital Zürich verhandelt wurden, 1928-1942
CATEGORIES:Autre
LOCATION:MIS 02\, 2113\, Avenue de l'Europe 20\, 1700 Fribourg
URL;VALUE=URI:https://agenda.unifr.ch/e/fr/19431
END:VEVENT
END:VCALENDAR