BEGIN:VCALENDAR
VERSION:2.0
PRODID:-//UNIFR/WEBMASTER//NONSGML v1.0//EN
CALSCALE:GREGORIAN
BEGIN:VEVENT
DTSTART;VALUE=DATE:20260626T000000
DTEND;VALUE=DATE:20260627T000000
UID:19394@agenda.unifr.ch
DESCRIPTION:Die Verbände AkDaF und Ledafids, das Sprachenzentrum der Universität Freiburg/Fribourg und das Organisationskomitee laden Sie herzlich zur elften Gesamtschweizerischen Tagung für Deutschlehrerinnen und Deutschlehrer am 26. und 27. Juni 2026 an der Universität Freiburg/Fribourg ein. Die Tagung steht unter dem Motto "DaF/DaZ bewegt – wen, wie, wozu?". Auf Sie wartet ein abwechslungsreiches Programm mit verschiedenen Formaten – darunter Vorträge, Workshops, Austauschrunden, Verlagspräsentationen und eine Podiumsdiskussion.\n\nDaten\nAnmeldeschluss: 31.05.2026\nTagungsdaten: 26.06. - 27.06.2026\n\nTeilnahmegebühr\nMitglieder AkDaF und Ledafids / Arbeitgeber_in ist Mitglied:\nCHF 220.- (beide Tage)\nCHF 150.- (ein Tag)\n\nStudierende / AHV:\nCHF 180.- (beide Tage)\nCHF 130.- (ein Tag)\n\nNichtmitglieder:\nCHF 270.- (beide Tage)\nCHF 220.- (ein Tag)
SUMMARY:Elfte Gesamtschweizerische Tagung für Deutschlehrerinnen und Deutschlehrer 26. und 27. Juni 2026 - Anmeldung
CATEGORIES:Colloque / Congrès / Forum
LOCATION:PER 22\, Bd de Pérolles 90\, 1700 Fribourg
URL;VALUE=URI:https://agenda.unifr.ch/e/fr/19394
END:VEVENT
END:VCALENDAR